BEGIN:VCALENDAR
PRODID:-//kirchenweb.ch gmbh//veranstaltungsausgabe v2.0//DE
VERSION:2.0
METHOD:PUBLISH
BEGIN:VEVENT
DTSTART:20261114T130000Z
DTEND:20261114T190000Z
LOCATION:Menzihuus-Lihnareal\, \, 8757 Filzbach
TRANSP:OPAQUE
SEQUENCE:0
UID:29402-veranstaltung@ref-gl.ch
DTSTAMP:20260416T051337Z
DESCRIPTION:Kontakt: stephanie.cathomas@ref-gl.ch\n\nWeitere Infos:
  https://www.ref-gl.ch/veranstaltung/29402
SUMMARY:Adventsmarkt Lihn Filzbach
PRIORITY:5
X-MICROSOFT-CDO-IMPORTANCE:1
CLASS:PUBLIC
END:VEVENT
END:VCALENDAR
