BEGIN:VCALENDAR
PRODID:-//kirchenweb.ch gmbh//veranstaltungsausgabe v2.0//DE
VERSION:2.0
METHOD:PUBLISH
BEGIN:VEVENT
DTSTART:20260521T170000Z
DTEND:20260521T180000Z
LOCATION:Ref. Kirche Mollis\, Kerenzerbergstrasse\, 8753 Mollis
TRANSP:OPAQUE
SEQUENCE:0
UID:29392-veranstaltung@ref-gl.ch
DTSTAMP:20260410T085851Z
DESCRIPTION:Kontakt: Oscar Vazquez\n\nWeitere Infos:
  https://www.ref-gl.ch/veranstaltung/29392
SUMMARY:Elternabend Konf-Lager
PRIORITY:5
X-MICROSOFT-CDO-IMPORTANCE:1
CLASS:PUBLIC
END:VEVENT
END:VCALENDAR
