BEGIN:VCALENDAR
PRODID:-//kirchenweb.ch gmbh//veranstaltungsausgabe v2.0//DE
VERSION:2.0
METHOD:PUBLISH
BEGIN:VEVENT
DTSTART:20261215T163000Z
DTEND:20261215T173000Z
LOCATION:Ref. Kirche Mühlehorn\, Dorfstrasse 30\, 8874 Mühlehorn
TRANSP:OPAQUE
SEQUENCE:0
UID:29391-veranstaltung@ref-gl.ch
DTSTAMP:20260414T063702Z
DESCRIPTION:Mit Schülerinnen und Schülern der 5. & 6. Klasse\n\nKontakt:
  stephanie.cathomas@ref-gl.ch\n\nWeitere Infos:
  https://www.ref-gl.ch/veranstaltung/29391
SUMMARY:Familienweihnacht
PRIORITY:5
X-MICROSOFT-CDO-IMPORTANCE:1
CLASS:PUBLIC
END:VEVENT
END:VCALENDAR
