BEGIN:VCALENDAR
PRODID:-//kirchenweb.ch gmbh//veranstaltungsausgabe v2.0//DE
VERSION:2.0
METHOD:PUBLISH
BEGIN:VEVENT
DTSTART:20260602T073000Z
DTEND:20260602T080000Z
LOCATION:Kirchgemeindehaus Mollis\, Bahnhofstrasse 5\, 8753 Mollis
TRANSP:OPAQUE
SEQUENCE:0
UID:29386-veranstaltung@ref-gl.ch
DTSTAMP:20260410T062336Z
DESCRIPTION:Kontakt: stephanie.cathomas@ref-gl.ch\n\nWeitere Infos:
  https://www.ref-gl.ch/veranstaltung/29386
SUMMARY:ElKi-Singen
PRIORITY:5
X-MICROSOFT-CDO-IMPORTANCE:1
CLASS:PUBLIC
END:VEVENT
END:VCALENDAR
