BEGIN:VCALENDAR
PRODID:-//kirchenweb.ch gmbh//veranstaltungsausgabe v2.0//DE
VERSION:2.0
METHOD:PUBLISH
BEGIN:VEVENT
DTSTART:20260926T151500Z
DTEND:20260926T161500Z
LOCATION:Ref. Kirche Mollis\, Kerenzerbergstrasse\, 8753 Mollis
TRANSP:OPAQUE
SEQUENCE:0
UID:29371-veranstaltung@ref-gl.ch
DTSTAMP:20260401T114336Z
DESCRIPTION:Mit Katechetinnen Silke Rimann\, Christine Dettwiler und
  Religionskindern.\nAnschliessend Apéro\n\nKontakt: Ansgar Gmür\n
 \nWeitere Infos: https://www.ref-gl.ch/veranstaltung/29371
SUMMARY:Erntedank-Familiengottesdienst
PRIORITY:5
X-MICROSOFT-CDO-IMPORTANCE:1
CLASS:PUBLIC
END:VEVENT
END:VCALENDAR
