BEGIN:VCALENDAR
PRODID:-//kirchenweb.ch gmbh//veranstaltungsausgabe v2.0//DE
VERSION:2.0
METHOD:PUBLISH
BEGIN:VEVENT
DTSTART:20270425T081500Z
DTEND:20270425T091500Z
LOCATION:Ref. Kirche Obstalden\, Dorf 2\, 8758 Obstalden
TRANSP:OPAQUE
SEQUENCE:0
UID:29366-veranstaltung@ref-gl.ch
DTSTAMP:20260401T045545Z
DESCRIPTION:Mit Katechetinnen Silke Rimann und Christine Dettwiler mit
  Religionskindern der 3. Klasse. Anschliessend kleiner Imbiss.\n\nKontakt:
  Ruedi Hofer\n\nWeitere Infos: https://www.ref-gl.ch/veranstaltung/29366
SUMMARY:Familiengottesdienst mit Abendmahl
PRIORITY:5
X-MICROSOFT-CDO-IMPORTANCE:1
CLASS:PUBLIC
END:VEVENT
END:VCALENDAR
