BEGIN:VCALENDAR
PRODID:-//kirchenweb.ch gmbh//veranstaltungsausgabe v2.0//DE
VERSION:2.0
METHOD:PUBLISH
BEGIN:VEVENT
DTSTART:20270424T151500Z
DTEND:20270424T161500Z
LOCATION:Ref. Kirche Mollis\, Kerenzerbergstrasse\, 8753 Mollis
TRANSP:OPAQUE
SEQUENCE:0
UID:29365-veranstaltung@ref-gl.ch
DTSTAMP:20260401T045419Z
DESCRIPTION:Mit Katechetinnen Silke Rimann und Christine Dettwiler und
  Religionskinder der 3. Klasse. Anschliessend kleiner Imbiss.\n\nKontakt:
  Ruedi Hofer\n\nWeitere Infos: https://www.ref-gl.ch/veranstaltung/29365
SUMMARY:Familiengottesdienst mit Abendmahl
PRIORITY:5
X-MICROSOFT-CDO-IMPORTANCE:1
CLASS:PUBLIC
END:VEVENT
END:VCALENDAR
