BEGIN:VCALENDAR
PRODID:-//kirchenweb.ch gmbh//veranstaltungsausgabe v2.0//DE
VERSION:2.0
METHOD:PUBLISH
BEGIN:VEVENT
DTSTART:20270314T090000Z
DTEND:20270314T100000Z
LOCATION:Ref. Kirche Bilten\, Hauptstrasse 56\, 8865 Bilten
TRANSP:OPAQUE
SEQUENCE:0
UID:29364-veranstaltung@ref-gl.ch
DTSTAMP:20260401T045312Z
DESCRIPTION:Mit Katechetinnen Silke Rimmann und Jacqueline Freitag mit
  Religionskindern der 3. Klasse. \n\nKontakt: Ruedi Hofer\n\nWeitere
  Infos: https://www.ref-gl.ch/veranstaltung/29364
SUMMARY:Familiengottesdienst mit Abendmahl
PRIORITY:5
X-MICROSOFT-CDO-IMPORTANCE:1
CLASS:PUBLIC
END:VEVENT
END:VCALENDAR
