BEGIN:VCALENDAR
PRODID:-//kirchenweb.ch gmbh//veranstaltungsausgabe v2.0//DE
VERSION:2.0
METHOD:PUBLISH
BEGIN:VEVENT
DTSTART:20270101T093000Z
DTEND:20270101T103000Z
LOCATION:Ref. Kirche Bilten\, Hauptstrasse 56\, 8865 Bilten
TRANSP:OPAQUE
SEQUENCE:0
UID:29264-veranstaltung@ref-gl.ch
DTSTAMP:20260313T080051Z
DESCRIPTION:Evt. anschl. Apéro\n\nKontakt: Ansgar Gmür\,
  Pfarrerstellvertretung\n\nWeitere Infos:
  https://www.ref-gl.ch/veranstaltung/29264
SUMMARY:Neujahrsgottesdienst
PRIORITY:5
X-MICROSOFT-CDO-IMPORTANCE:1
CLASS:PUBLIC
END:VEVENT
END:VCALENDAR
