BEGIN:VCALENDAR
PRODID:-//kirchenweb.ch gmbh//veranstaltungsausgabe v2.0//DE
VERSION:2.0
METHOD:PUBLISH
BEGIN:VEVENT
DTSTART:20270101T153000Z
DTEND:20270101T163000Z
LOCATION:Ref. Kirche Mühlehorn\, Dorfstrasse 30\, 8874 Mühlehorn
TRANSP:OPAQUE
SEQUENCE:0
UID:29258-veranstaltung@ref-gl.ch
DTSTAMP:20260320T085328Z
DESCRIPTION:Anschliessend Apéro\n\nKontakt: Pfr. Ruedi Hofer und Pfr.
  Gregor Barmet\n\nWeitere Infos: https://www.ref-gl.ch/veranstaltung/29258
SUMMARY:Ökum. Neujahrsgottesdienst
PRIORITY:5
X-MICROSOFT-CDO-IMPORTANCE:1
CLASS:PUBLIC
END:VEVENT
END:VCALENDAR
