BEGIN:VCALENDAR
PRODID:-//kirchenweb.ch gmbh//veranstaltungsausgabe v2.0//DE
VERSION:2.0
METHOD:PUBLISH
BEGIN:VEVENT
DTSTART:20261211T181500Z
DTEND:20261211T191500Z
LOCATION:Katholische Kirche St. Hilarius\, Kirchstrasse 15\, 8752 Näfels
TRANSP:OPAQUE
SEQUENCE:0
UID:29257-veranstaltung@ref-gl.ch
DTSTAMP:20260309T121536Z
DESCRIPTION:Mit Band. Anschliessend gemütliches Beisammensein im
  Hilarisaal\n\nKontakt: Oscar Vazquez\, Pfr. Gregor Barmet und Marco
  Bächtiger\n\nWeitere Infos: https://www.ref-gl.ch/veranstaltung/29257
SUMMARY:Ökumenischer Jugendgottesdienst Special
PRIORITY:5
X-MICROSOFT-CDO-IMPORTANCE:1
CLASS:PUBLIC
END:VEVENT
END:VCALENDAR
