BEGIN:VCALENDAR
PRODID:-//kirchenweb.ch gmbh//veranstaltungsausgabe v2.0//DE
VERSION:2.0
METHOD:PUBLISH
BEGIN:VEVENT
DTSTART:20261015T121500Z
DTEND:20261015T150000Z
LOCATION:Pfarrhaussaal Obstalden\, Dorf 12\, 8758 Obstalden
TRANSP:OPAQUE
SEQUENCE:0
UID:29096-veranstaltung@ref-gl.ch
DTSTAMP:20260217T121218Z
DESCRIPTION:Historische Zürcher Tram - Bericht und Bilder von Peter Kamm
 \n\nFahrdienst: Gret Menzi\, Tel. 055 614 11 07 oder 079 476 43 61\n
 \nKontakt: Gret Menzi\n\nWeitere Infos:
  https://www.ref-gl.ch/veranstaltung/29096
SUMMARY:Senioren-Nachmittag
PRIORITY:5
X-MICROSOFT-CDO-IMPORTANCE:1
CLASS:PUBLIC
END:VEVENT
END:VCALENDAR
