BEGIN:VCALENDAR
PRODID:-//kirchenweb.ch gmbh//veranstaltungsausgabe v2.0//DE
VERSION:2.0
METHOD:PUBLISH
BEGIN:VEVENT
DTSTART:20260707T050000Z
DTEND:20260707T060000Z
LOCATION:Vor der Migros\, Einkaufszentrum Krumm\, Näfels\, \, 8752
  Näfels
TRANSP:OPAQUE
SEQUENCE:0
UID:29088-veranstaltung@ref-gl.ch
DTSTAMP:20260216T104834Z
DESCRIPTION:Wir starten jeweils um 7 Uhr und gehen auf bequemen und ebenen
  Wegen.\nDauer ca. 1.5 Stunden. Eine Anmeldung ist nicht nötig.
  Durchführung bei jedem Wetter. Alle sind herzlich eingeladen!\n
 \nKontakt: Margrith und Rolf Jost\, Tel. 079 368 01 19\n\nWeitere Infos:
  https://www.ref-gl.ch/veranstaltung/29088
SUMMARY:Morgentau - Gemeinsamer Spaziergang mit erfrischenden Gedanken
PRIORITY:5
X-MICROSOFT-CDO-IMPORTANCE:1
CLASS:PUBLIC
END:VEVENT
END:VCALENDAR
