BEGIN:VCALENDAR
PRODID:-//kirchenweb.ch gmbh//veranstaltungsausgabe v2.0//DE
VERSION:2.0
METHOD:PUBLISH
BEGIN:VEVENT
DTSTART:20260910T100000Z
DTEND:20260910T170000Z
LOCATION:Bahnmuseum Albula \, Veja Stazion 11\, 7482 Bergün
TRANSP:OPAQUE
SEQUENCE:0
UID:28990-veranstaltung@ref-gl.ch
DTSTAMP:20260202T112840Z
DESCRIPTION:Nachmittagsausflug Bahnmuseum Albula\, Bergün (Detailprogramm
  folgt später)\nAnmeldung bis am 26. August 2026 an Gret. Menzi\,
  Seegarten 6\, 8874 Mühlehorn\, Tel. 055 614 11 07 oder 079 476 43 61\n\n
 \nKontakt: Gret Menzi\n\nWeitere Infos:
  https://www.ref-gl.ch/veranstaltung/28990
SUMMARY:Ausflug Seniorinnen und Senioren Kerenzen
PRIORITY:5
X-MICROSOFT-CDO-IMPORTANCE:1
CLASS:PUBLIC
END:VEVENT
END:VCALENDAR
