BEGIN:VCALENDAR
PRODID:-//kirchenweb.ch gmbh//veranstaltungsausgabe v2.0//DE
VERSION:2.0
METHOD:PUBLISH
BEGIN:VEVENT
DTSTART:20260515T170000Z
DTEND:20260515T200000Z
LOCATION:Kirchgemeindehaus Mollis\, Bahnhofstrasse 5\, 8753 Mollis
TRANSP:OPAQUE
SEQUENCE:0
UID:28985-veranstaltung@ref-gl.ch
DTSTAMP:20260202T075442Z
DESCRIPTION:Die Youth Lounge ist ein Angebot der Reformierten Kirche für
  Jugendliche ab 13 Jahren. Dich erwarten coole Gemeinschaft\, Spiele\,
  Musik\, Snacks\, Drinks\, kurze Inputs über Gott und das Leben - und
  einfach eine gute Zeit. Komm vorbei - wir freuen uns auf dich!\n
 \nKontakt: stephanie.cathomas@ref-gl.ch\n\nWeitere Infos:
  https://www.ref-gl.ch/veranstaltung/28985
SUMMARY:Youth Lounge
PRIORITY:5
X-MICROSOFT-CDO-IMPORTANCE:1
CLASS:PUBLIC
END:VEVENT
END:VCALENDAR
