BEGIN:VCALENDAR
PRODID:-//kirchenweb.ch gmbh//veranstaltungsausgabe v2.0//DE
VERSION:2.0
METHOD:PUBLISH
BEGIN:VEVENT
DTSTART:20260618T100000Z
DTEND:20260618T163000Z
LOCATION:Sea Life\, Hafenstrasse 9\, 78462 Konstanz
TRANSP:OPAQUE
SEQUENCE:0
UID:28957-veranstaltung@ref-gl.ch
DTSTAMP:20260202T110550Z
DESCRIPTION:Nachmittagsausflug: Sea Life\, Konstanz (D) und
  Mannenbach-Salenstein. \n(Detailprogramm folgt später). \nAnmeldung bis
  3. Juni 2026 und Auskunft: Gret Menzi\, Seegarten 6\, 8874 Mühlehorn
 \nTel. 055 614 11 07 Mobile: 079 476 43 61.\n\n\nKontakt: Gret Menzi\n
 \nWeitere Infos: https://www.ref-gl.ch/veranstaltung/28957
SUMMARY:Ausflug Seniorinnen und Senioren Kerenzen
PRIORITY:5
X-MICROSOFT-CDO-IMPORTANCE:1
CLASS:PUBLIC
END:VEVENT
END:VCALENDAR
