BEGIN:VCALENDAR
PRODID:-//kirchenweb.ch gmbh//veranstaltungsausgabe v2.0//DE
VERSION:2.0
METHOD:PUBLISH
BEGIN:VEVENT
DTSTART:20260416T121500Z
DTEND:20260416T150000Z
LOCATION:Pfarrhaussaal Obstalden\, Dorf 12\, 8758 Obstalden
TRANSP:OPAQUE
SEQUENCE:0
UID:28955-veranstaltung@ref-gl.ch
DTSTAMP:20260202T110733Z
DESCRIPTION:"Eintritt ins Heim" Harald Klein\, Geschäftsführer APGN gibt
  Einblicke und Auskunft.\nFragen zum Thema nimmt Gret Menzi gerne bis am
  2. April 2026 entgegen. \nFahrdienst: Gret Menzi Tel. 055 614 11 07
  Mobile: 079 476 43 61 \n\nKontakt: Gret Menzi\n\nWeitere Infos:
  https://www.ref-gl.ch/veranstaltung/28955
SUMMARY:Senioren-Nachmittag
PRIORITY:5
X-MICROSOFT-CDO-IMPORTANCE:1
CLASS:PUBLIC
END:VEVENT
END:VCALENDAR
