BEGIN:VCALENDAR
PRODID:-//kirchenweb.ch gmbh//veranstaltungsausgabe v2.0//DE
VERSION:2.0
METHOD:PUBLISH
BEGIN:VEVENT
DTSTART:20261218T110000Z
DTEND:20261218T130000Z
LOCATION:Hotel Kerenzerberg Sportlobby\, Kerenzerbergstrasse 48\, 8757
  Filzbach
TRANSP:OPAQUE
SEQUENCE:0
UID:28954-veranstaltung@ref-gl.ch
DTSTAMP:20260127T103220Z
DESCRIPTION:Anmeldung bis am Vortag im Restaurant: Tel. 055 614 66 66 \n
 \nKontakt: Gret Menzi\n\nWeitere Infos:
  https://www.ref-gl.ch/veranstaltung/28954
SUMMARY:Senioren-Zmittag
PRIORITY:5
X-MICROSOFT-CDO-IMPORTANCE:1
CLASS:PUBLIC
END:VEVENT
END:VCALENDAR
