BEGIN:VCALENDAR
PRODID:-//kirchenweb.ch gmbh//veranstaltungsausgabe v2.0//DE
VERSION:2.0
METHOD:PUBLISH
BEGIN:VEVENT
DTSTART:20261023T100000Z
DTEND:20261023T120000Z
LOCATION:Restaurant Pizzeria Mühle\, Dorfstrasse 32\, 8874 Mühlehorn
TRANSP:OPAQUE
SEQUENCE:0
UID:28952-veranstaltung@ref-gl.ch
DTSTAMP:20260128T103855Z
DESCRIPTION:Anmeldung bis am Vortag im Restaurant: Tel. 055 614 12 21\nNur
  Bargeldzahlung möglich! \n\nKontakt: Gret Menzi\n\nWeitere Infos:
  https://www.ref-gl.ch/veranstaltung/28952
SUMMARY:Senioren-Zmittag
PRIORITY:5
X-MICROSOFT-CDO-IMPORTANCE:1
CLASS:PUBLIC
END:VEVENT
END:VCALENDAR
