BEGIN:VCALENDAR
PRODID:-//kirchenweb.ch gmbh//veranstaltungsausgabe v2.0//DE
VERSION:2.0
METHOD:PUBLISH
BEGIN:VEVENT
DTSTART:20261009T100000Z
DTEND:20261009T120000Z
LOCATION:Seerestaurant Brauerei \, Strandweg 9\, 8874 Mühlehorn
TRANSP:OPAQUE
SEQUENCE:0
UID:28951-veranstaltung@ref-gl.ch
DTSTAMP:20260127T103128Z
DESCRIPTION:Anmeldung bis am Vortag im Restaurant: Tel. 055 614 11 91\n
 \nKontakt: Gret Menzi\n\nWeitere Infos:
  https://www.ref-gl.ch/veranstaltung/28951
SUMMARY:Senioren-Zmittag
PRIORITY:5
X-MICROSOFT-CDO-IMPORTANCE:1
CLASS:PUBLIC
END:VEVENT
END:VCALENDAR
