BEGIN:VCALENDAR
PRODID:-//kirchenweb.ch gmbh//veranstaltungsausgabe v2.0//DE
VERSION:2.0
METHOD:PUBLISH
BEGIN:VEVENT
DTSTART:20260918T101500Z
DTEND:20260918T130000Z
LOCATION:Restaurant Talalpsee\, Talalpstrasse \, 8757 Filzbach
TRANSP:OPAQUE
SEQUENCE:0
UID:28950-veranstaltung@ref-gl.ch
DTSTAMP:20260304T144733Z
DESCRIPTION:Anmeldung bis am Mittwoch 16.09.2026 im Restaurant: Tel. 079
  691 02 21\n12.15 Uhr Gratisbus ab Haltestelle Sportzentrum Filzbach.\n
 \nKontakt: Gret Menzi\n\nWeitere Infos:
  https://www.ref-gl.ch/veranstaltung/28950
SUMMARY:Senioren-Zmittag
PRIORITY:5
X-MICROSOFT-CDO-IMPORTANCE:1
CLASS:PUBLIC
END:VEVENT
END:VCALENDAR
