BEGIN:VCALENDAR
PRODID:-//kirchenweb.ch gmbh//veranstaltungsausgabe v2.0//DE
VERSION:2.0
METHOD:PUBLISH
BEGIN:VEVENT
DTSTART:20260529T100000Z
DTEND:20260529T120000Z
LOCATION:Hotel Kerenzerberg Sportlobby\, Kerenzerbergstrasse 48\, 8757
  Filzbach
TRANSP:OPAQUE
SEQUENCE:0
UID:28941-veranstaltung@ref-gl.ch
DTSTAMP:20260127T102759Z
DESCRIPTION:Anmeldung bis am Vortag im Restaurant: Tel. 055 614 66 66 \n
 \nKontakt: Gret Menzi\n\nWeitere Infos:
  https://www.ref-gl.ch/veranstaltung/28941
SUMMARY:Senioren-Zmittag
PRIORITY:5
X-MICROSOFT-CDO-IMPORTANCE:1
CLASS:PUBLIC
END:VEVENT
END:VCALENDAR
