BEGIN:VCALENDAR
PRODID:-//kirchenweb.ch gmbh//veranstaltungsausgabe v2.0//DE
VERSION:2.0
METHOD:PUBLISH
BEGIN:VEVENT
DTSTART:20260424T100000Z
DTEND:20260424T120000Z
LOCATION:Hotel Cafe Seeblick\, Kerenzerbergstrasse 8\, 8757 Filzbach
TRANSP:OPAQUE
SEQUENCE:0
UID:28940-veranstaltung@ref-gl.ch
DTSTAMP:20260127T102740Z
DESCRIPTION:Anmeldung bis am Mittwoch 22.04.2026 im Restaurant: 071 410 27
  87\n\nKontakt: Gret Menzi\n\nWeitere Infos:
  https://www.ref-gl.ch/veranstaltung/28940
SUMMARY:Senioren-Zmittag
PRIORITY:5
X-MICROSOFT-CDO-IMPORTANCE:1
CLASS:PUBLIC
END:VEVENT
END:VCALENDAR
