BEGIN:VCALENDAR
PRODID:-//kirchenweb.ch gmbh//veranstaltungsausgabe v2.0//DE
VERSION:2.0
METHOD:PUBLISH
BEGIN:VEVENT
DTSTART:20260530T090000Z
DTEND:20260530T130000Z
LOCATION:Sternensaal Obstalden\, Kerenzerbergstrasse 25\, 8758 Obstalden
TRANSP:OPAQUE
SEQUENCE:0
UID:28921-veranstaltung@ref-gl.ch
DTSTAMP:20260125T102148Z
DESCRIPTION:Kleider Bring- und Holbörse\nSternensaal\, Obstalden\,
  Kerenzerbergstrasse 25 (mit Kaffeestube)\nFreitag\, 29. Mai 2026\, 13.00
  – 20.00 Uhr\, Annahme der Kleider (NUR ANNAHME!)\nSamstag\, 30. Mai
  2026\, 11.00 – 15.00 Uhr\, Kleider können gratis abgeholt werden
 \nAuskunft im Sekretariat\, Tel. 055 612 40 51 oder 079 287 05 47\n\n
 \nKontakt: Stephanie Cathomas\, 079 287 05 47\n\nWeitere Infos:
  https://www.ref-gl.ch/veranstaltung/28921
SUMMARY:Kleider Bring- und Holbörse
PRIORITY:5
X-MICROSOFT-CDO-IMPORTANCE:1
CLASS:PUBLIC
END:VEVENT
END:VCALENDAR
