BEGIN:VCALENDAR
PRODID:-//kirchenweb.ch gmbh//veranstaltungsausgabe v2.0//DE
VERSION:2.0
METHOD:PUBLISH
BEGIN:VEVENT
DTSTART:20260605T171500Z
DTEND:20260605T181500Z
LOCATION:Katholische Kirche St. Hilarius\, Kirchstrasse 15\, 8752 Näfels
TRANSP:OPAQUE
SEQUENCE:0
UID:28765-veranstaltung@ref-gl.ch
DTSTAMP:20260417T094551Z
DESCRIPTION:Mit Band. Anschliessend gemütliches Beisammensein im
  Hilarisaal\n\nKontakt: Oscar Vazquez\n\nWeitere Infos:
  https://www.ref-gl.ch/veranstaltung/28765
SUMMARY:Ökumenischer Jugendgottesdienst Special
PRIORITY:5
X-MICROSOFT-CDO-IMPORTANCE:1
CLASS:PUBLIC
END:VEVENT
END:VCALENDAR
