BEGIN:VCALENDAR
PRODID:-//kirchenweb.ch gmbh//veranstaltungsausgabe v2.0//DE
VERSION:2.0
METHOD:PUBLISH
BEGIN:VEVENT
DTSTART:20261219T170000Z
DTEND:20261219T180000Z
LOCATION:Bilten-Schänis\, \,
TRANSP:OPAQUE
SEQUENCE:0
UID:28764-veranstaltung@ref-gl.ch
DTSTAMP:20260127T182248Z
DESCRIPTION:Waldweihnacht 2026 (nähere Informationen folgen bei
  Durchführung)\n\n\nKontakt: Christian Isaak\, Tel. 079 576 84 88\,
  E-Mail: chrigl@outlook.com\n\nWeitere Infos:
  https://www.ref-gl.ch/veranstaltung/28764
SUMMARY:Cevi Hirzli
PRIORITY:5
X-MICROSOFT-CDO-IMPORTANCE:1
CLASS:PUBLIC
END:VEVENT
END:VCALENDAR
