BEGIN:VCALENDAR
PRODID:-//kirchenweb.ch gmbh//veranstaltungsausgabe v2.0//DE
VERSION:2.0
METHOD:PUBLISH
BEGIN:VEVENT
DTSTART:20260830T090000Z
DTEND:20260830T100000Z
LOCATION:Seeterrasse bei der St. Fridolinskapelle Mühlehorn\, Seegarten
  12\, 8874 Mühlehorn
TRANSP:OPAQUE
SEQUENCE:0
UID:28725-veranstaltung@ref-gl.ch
DTSTAMP:20260310T075051Z
DESCRIPTION:Anschliessend Festwirtschaft. Bei schlechtem Wetter in der
  Ref. Kirche Mühlehorn\n\nKontakt: stephanie.cathomas@ref-gl.ch\n
 \nWeitere Infos: https://www.ref-gl.ch/veranstaltung/28725
SUMMARY:Ökumenischer Seegottesdienst
PRIORITY:5
X-MICROSOFT-CDO-IMPORTANCE:1
CLASS:PUBLIC
END:VEVENT
END:VCALENDAR
