BEGIN:VCALENDAR
PRODID:-//kirchenweb.ch gmbh//veranstaltungsausgabe v2.0//DE
VERSION:2.0
METHOD:PUBLISH
BEGIN:VEVENT
DTSTART:20260801T070000Z
DTEND:20260801T080000Z
LOCATION:Flugplatz Schänis\, \,
TRANSP:OPAQUE
SEQUENCE:0
UID:28720-veranstaltung@ref-gl.ch
DTSTAMP:20260201T143715Z
DESCRIPTION:Mit dem Männerchor Schänis\nAnschliessend Bundesfeier der
  Gemeinde Schänis mit Brunch. \n\nKontakt: Ruedi Hofer\, Seelsorger Bruno
  Schmid\n\nWeitere Infos: https://www.ref-gl.ch/veranstaltung/28720
SUMMARY:Ökumenischer Gottesdienst zum 1. August
PRIORITY:5
X-MICROSOFT-CDO-IMPORTANCE:1
CLASS:PUBLIC
END:VEVENT
END:VCALENDAR
