BEGIN:VCALENDAR
PRODID:-//kirchenweb.ch gmbh//veranstaltungsausgabe v2.0//DE
VERSION:2.0
METHOD:PUBLISH
BEGIN:VEVENT
DTSTART;VALUE=DATE:20260507
DTEND;VALUE=DATE:20260508
LOCATION:St. Pauls / Eppan ins Hotel Weingarten\, \,
TRANSP:OPAQUE
SEQUENCE:0
UID:28604-veranstaltung@ref-gl.ch
DTSTAMP:20251225T085830Z
DESCRIPTION:Die traditionelle Gemeinde-Ferienwoche führt uns ins
  Südtirol nach St. Pauls / Eppan ins Hotel Weingarten. Dies vom 4. - 8.
  Mai 2026. Weitere Infos folgen später.\nAuskunft: Walter Schaub (Tel.
  055 614 18 70)\n\nKontakt: stephanie.cathomas@ref-gl.ch\n\nWeitere Infos:
  https://www.ref-gl.ch/veranstaltung/28604
SUMMARY:Gemeinde-Ferienwoche  der Evang. Kirchgemeinde Glarus Nord 2026
PRIORITY:5
X-MICROSOFT-CDO-IMPORTANCE:1
CLASS:PUBLIC
END:VEVENT
END:VCALENDAR
