BEGIN:VCALENDAR
PRODID:-//kirchenweb.ch gmbh//veranstaltungsausgabe v2.0//DE
VERSION:2.0
METHOD:PUBLISH
BEGIN:VEVENT
DTSTART:20260610T093000Z
DTEND:20260610T103000Z
LOCATION:Restaurant Bären\, Vorderdorfstrasse 36\, 8753 Mollis
TRANSP:OPAQUE
SEQUENCE:0
UID:28600-veranstaltung@ref-gl.ch
DTSTAMP:20251225T081627Z
DESCRIPTION:Anmeldung bis am Vortag direkt im Restaurant\, Tel. 055 612 11
  83. Nur Barzahlung möglich.\nFitnessteller\n\nKontakt:
  info@baeren-mollis.ch\n\nWeitere Infos:
  https://www.ref-gl.ch/veranstaltung/28600
SUMMARY:Senioren-Zmittag
PRIORITY:5
X-MICROSOFT-CDO-IMPORTANCE:1
CLASS:PUBLIC
END:VEVENT
END:VCALENDAR
