BEGIN:VCALENDAR
PRODID:-//kirchenweb.ch gmbh//veranstaltungsausgabe v2.0//DE
VERSION:2.0
METHOD:PUBLISH
BEGIN:VEVENT
DTSTART:20260513T093000Z
DTEND:20260513T103000Z
LOCATION:Restaurant Bären\, Vorderdorfstrasse 36\, 8753 Mollis
TRANSP:OPAQUE
SEQUENCE:0
UID:28599-veranstaltung@ref-gl.ch
DTSTAMP:20251225T081552Z
DESCRIPTION:Anmeldung bis am Vortag direkt im Restaurant\, Tel. 055 612 11
  83. Nur Barzahlung möglich.\nSchweinsrahmgeschnetzeltes mit Rösti\n
 \nKontakt: info@baeren-mollis.ch\n\nWeitere Infos:
  https://www.ref-gl.ch/veranstaltung/28599
SUMMARY:Senioren-Zmittag
PRIORITY:5
X-MICROSOFT-CDO-IMPORTANCE:1
CLASS:PUBLIC
END:VEVENT
END:VCALENDAR
