BEGIN:VCALENDAR
PRODID:-//kirchenweb.ch gmbh//veranstaltungsausgabe v2.0//DE
VERSION:2.0
METHOD:PUBLISH
BEGIN:VEVENT
DTSTART:20260524T083000Z
DTEND:20260524T093000Z
LOCATION:Katholische Kirche St. Hilarius\, Kirchstrasse 15\, 8752 Näfels
TRANSP:OPAQUE
SEQUENCE:0
UID:28509-veranstaltung@ref-gl.ch
DTSTAMP:20260411T182850Z
DESCRIPTION:Anschliessend Apéro im Festzelt auf der Schwingerwiese beim
  Schlachtdenkmal\n\nKontakt: Ruedi Hofer und Pfr. Gregor Barmet\n\nWeitere
  Infos: https://www.ref-gl.ch/veranstaltung/28509
SUMMARY:Ökum. Gottesdienst zum Glarner-Bündner Kantonalschwingfest
PRIORITY:5
X-MICROSOFT-CDO-IMPORTANCE:1
CLASS:PUBLIC
END:VEVENT
END:VCALENDAR
