BEGIN:VCALENDAR
PRODID:-//kirchenweb.ch gmbh//veranstaltungsausgabe v2.0//DE
VERSION:2.0
METHOD:PUBLISH
BEGIN:VEVENT
DTSTART:20260522T180000Z
DTEND:20260522T190000Z
LOCATION:Kirchgemeindehaus Mollis\, Bahnhofstrasse 5\, 8753 Mollis
TRANSP:OPAQUE
SEQUENCE:0
UID:28507-veranstaltung@ref-gl.ch
DTSTAMP:20251219T084840Z
DESCRIPTION:Next Level richtet sich an Jugendliche\, die den
  Jugendgottesdienst Special besuchen. Zum Ausklingen des Abends wird
  gechillt\, gespielt\, geredet mit Snacks und Getränken.\n\nKontakt:
  stephanie.cathomas@ref-gl.ch\n\nWeitere Infos:
  https://www.ref-gl.ch/veranstaltung/28507
SUMMARY:Next Level
PRIORITY:5
X-MICROSOFT-CDO-IMPORTANCE:1
CLASS:PUBLIC
END:VEVENT
END:VCALENDAR
