BEGIN:VCALENDAR
PRODID:-//kirchenweb.ch gmbh//veranstaltungsausgabe v2.0//DE
VERSION:2.0
METHOD:PUBLISH
BEGIN:VEVENT
DTSTART:20261024T150000Z
DTEND:20261024T160000Z
LOCATION:Ref. Kirche Mollis\, Kerenzerbergstrasse\, 8753 Mollis
TRANSP:OPAQUE
SEQUENCE:0
UID:28488-veranstaltung@ref-gl.ch
DTSTAMP:20260313T075210Z
DESCRIPTION:Anschliessend kleiner Apéro\n\nKontakt:
  stephanie.cathomas@ref-gl.ch\n\nWeitere Infos:
  https://www.ref-gl.ch/veranstaltung/28488
SUMMARY:Gottesdienst - Kirche unterwegs
PRIORITY:5
X-MICROSOFT-CDO-IMPORTANCE:1
CLASS:PUBLIC
END:VEVENT
END:VCALENDAR
