BEGIN:VCALENDAR
PRODID:-//kirchenweb.ch gmbh//veranstaltungsausgabe v2.0//DE
VERSION:2.0
METHOD:PUBLISH
BEGIN:VEVENT
DTSTART:20260417T161500Z
DTEND:20260417T171500Z
LOCATION:Ref. Kirche Mollis\, Kerenzerbergstrasse\, 8753 Mollis
TRANSP:OPAQUE
SEQUENCE:0
UID:28474-veranstaltung@ref-gl.ch
DTSTAMP:20260407T083557Z
DESCRIPTION:Apéro im Pfarrhausgarten\n(bei schlechtem Wetter in/vor der
  Kirche)\n\nKontakt: \n\nWeitere Infos:
  https://www.ref-gl.ch/veranstaltung/28474
SUMMARY:Abschiedsgottesdienst Johannes Geitz
PRIORITY:5
X-MICROSOFT-CDO-IMPORTANCE:1
CLASS:PUBLIC
END:VEVENT
END:VCALENDAR
