BEGIN:VCALENDAR
PRODID:-//kirchenweb.ch gmbh//veranstaltungsausgabe v2.0//DE
VERSION:2.0
METHOD:PUBLISH
BEGIN:VEVENT
DTSTART:20260519T171500Z
DTEND:20260519T190000Z
LOCATION:Sibylle Andermatt\, Churfirstenblick 4\, 8758 Obstalden
TRANSP:OPAQUE
SEQUENCE:0
UID:28452-veranstaltung@ref-gl.ch
DTSTAMP:20260108T132424Z
DESCRIPTION:Wir entdecken die Bibel als Kraftquelle für unseren Alltag!\n
 \nKontakt: Walter Schaub\, Tel. 055 614 18 70.\nAuch für Fahrdienst ist
  diese Adresse da\, jedermann ist herzlich willkommen!\n\nWeitere Infos:
  https://www.ref-gl.ch/veranstaltung/28452
SUMMARY:Input-Abend
PRIORITY:5
X-MICROSOFT-CDO-IMPORTANCE:1
CLASS:PUBLIC
END:VEVENT
END:VCALENDAR
