BEGIN:VCALENDAR
PRODID:-//kirchenweb.ch gmbh//veranstaltungsausgabe v2.0//DE
VERSION:2.0
METHOD:PUBLISH
BEGIN:VEVENT
DTSTART:20261212T170000Z
DTEND:20261212T180000Z
LOCATION:Ref. Kirche Mollis\, Kerenzerbergstrasse\, 8753 Mollis
TRANSP:OPAQUE
SEQUENCE:0
UID:27614-veranstaltung@ref-gl.ch
DTSTAMP:20260304T140420Z
DESCRIPTION:Mit dem Singkreis Mollis\n\nKontakt:
  stephanie.cathomas@ref-gl.ch\n\nWeitere Infos:
  https://www.ref-gl.ch/veranstaltung/27614
SUMMARY:Weihnachtskonzert mit dem Singkreis Mollis zum 3. Advent
PRIORITY:5
X-MICROSOFT-CDO-IMPORTANCE:1
CLASS:PUBLIC
END:VEVENT
END:VCALENDAR
