BEGIN:VCALENDAR
PRODID:-//kirchenweb.ch gmbh//veranstaltungsausgabe v2.0//DE
VERSION:2.0
METHOD:PUBLISH
BEGIN:VEVENT
DTSTART:20260419T071500Z
DTEND:20260419T081500Z
LOCATION:Ref. Kirche Obstalden\, Dorf 2\, 8758 Obstalden
TRANSP:OPAQUE
SEQUENCE:0
UID:27596-veranstaltung@ref-gl.ch
DTSTAMP:20260320T063105Z
DESCRIPTION:Kontakt: Ruedi Hofer\n\nWeitere Infos:
  https://www.ref-gl.ch/veranstaltung/27596
SUMMARY:Gottesdienst
PRIORITY:5
X-MICROSOFT-CDO-IMPORTANCE:1
CLASS:PUBLIC
END:VEVENT
END:VCALENDAR
