BEGIN:VCALENDAR
PRODID:-//kirchenweb.ch gmbh//veranstaltungsausgabe v2.0//DE
VERSION:2.0
METHOD:PUBLISH
BEGIN:VEVENT
DTSTART:20260620T103000Z
DTEND:20260620T140000Z
LOCATION:Ref. Kirche Mollis\, \,
TRANSP:OPAQUE
SEQUENCE:0
UID:27583-veranstaltung@ref-gl.ch
DTSTAMP:20260402T115018Z
DESCRIPTION:Kontakt: Ansgar Gmür\n\nWeitere Infos:
  https://www.ref-gl.ch/veranstaltung/27583
SUMMARY:Trauung Andrea Frick und Michael Müller
PRIORITY:5
X-MICROSOFT-CDO-IMPORTANCE:1
CLASS:PUBLIC
END:VEVENT
END:VCALENDAR
