BEGIN:VCALENDAR
PRODID:-//kirchenweb.ch gmbh//veranstaltungsausgabe v2.0//DE
VERSION:2.0
METHOD:PUBLISH
BEGIN:VEVENT
DTSTART:20260626T123000Z
DTEND:20260626T143000Z
LOCATION:Kirchgemeindehaus Mollis\, Bahnhofstrasse 5\, 8753 Mollis
TRANSP:OPAQUE
SEQUENCE:0
UID:27479-veranstaltung@ref-gl.ch
DTSTAMP:20250930T090122Z
DESCRIPTION:Fahrdienst: Andreas Zimmermann (079 395 36 54) oder Yvonne
  Heussi (055 612 37 71)\n\nKontakt: stephanie.cathomas@ref-gl.ch\n
 \nWeitere Infos: https://www.ref-gl.ch/veranstaltung/27479
SUMMARY:Seniorentreff
PRIORITY:5
X-MICROSOFT-CDO-IMPORTANCE:1
CLASS:PUBLIC
END:VEVENT
END:VCALENDAR
