BEGIN:VCALENDAR
PRODID:-//kirchenweb.ch gmbh//veranstaltungsausgabe v2.0//DE
VERSION:2.0
METHOD:PUBLISH
BEGIN:VEVENT
DTSTART:20260417T123000Z
DTEND:20260417T143000Z
LOCATION:Kirchgemeindehaus Mollis\, Bahnhofstrasse 5\, 8753 Mollis
TRANSP:OPAQUE
SEQUENCE:0
UID:27477-veranstaltung@ref-gl.ch
DTSTAMP:20260204T103903Z
DESCRIPTION:Samariterverein: Sturzprävention u. 1. Hilfe\nFahrdienst:
  Andreas Zimmermann (079 395 36 54) oder Yvonne Heussi (055 612 37 71)\n
 \nKontakt: stephanie.cathomas@ref-gl.ch\n\nWeitere Infos:
  https://www.ref-gl.ch/veranstaltung/27477
SUMMARY:Seniorentreff
PRIORITY:5
X-MICROSOFT-CDO-IMPORTANCE:1
CLASS:PUBLIC
END:VEVENT
END:VCALENDAR
