BEGIN:VCALENDAR
PRODID:-//kirchenweb.ch gmbh//veranstaltungsausgabe v2.0//DE
VERSION:2.0
METHOD:PUBLISH
BEGIN:VEVENT
DTSTART:20260621T081500Z
DTEND:20260621T091500Z
LOCATION:Ref. Kirche Mollis\, Kerenzerbergstrasse\, 8753 Mollis
TRANSP:OPAQUE
SEQUENCE:0
UID:27469-veranstaltung@ref-gl.ch
DTSTAMP:20260216T085551Z
DESCRIPTION:Anschliessend Kirchenkaffee\n\nKontakt: Ansgar Gmür\n
 \nWeitere Infos: https://www.ref-gl.ch/veranstaltung/27469
SUMMARY:Gottesdienst
PRIORITY:5
X-MICROSOFT-CDO-IMPORTANCE:1
CLASS:PUBLIC
END:VEVENT
END:VCALENDAR
