BEGIN:VCALENDAR
PRODID:-//kirchenweb.ch gmbh//veranstaltungsausgabe v2.0//DE
VERSION:2.0
METHOD:PUBLISH
BEGIN:VEVENT
DTSTART:20260523T160000Z
DTEND:20260523T170000Z
LOCATION:Ref. Kirche Bilten\, Hauptstrasse 56\, 8865 Bilten
TRANSP:OPAQUE
SEQUENCE:0
UID:27463-veranstaltung@ref-gl.ch
DTSTAMP:20260227T093949Z
DESCRIPTION:Kontakt: Katja Missal\n\nWeitere Infos:
  https://www.ref-gl.ch/veranstaltung/27463
SUMMARY:Gottesdienst an Pfingsten mit Abendmahl
PRIORITY:5
X-MICROSOFT-CDO-IMPORTANCE:1
CLASS:PUBLIC
END:VEVENT
END:VCALENDAR
