BEGIN:VCALENDAR
PRODID:-//kirchenweb.ch gmbh//veranstaltungsausgabe v2.0//DE
VERSION:2.0
METHOD:PUBLISH
BEGIN:VEVENT
DTSTART:20260517T073000Z
DTEND:20260517T083000Z
LOCATION:Ref. Kirche Mühlehorn\, Dorfstrasse 30\, 8874 Mühlehorn
TRANSP:OPAQUE
SEQUENCE:0
UID:27461-veranstaltung@ref-gl.ch
DTSTAMP:20260227T093331Z
DESCRIPTION:Kontakt: Katja Missal\n\nWeitere Infos:
  https://www.ref-gl.ch/veranstaltung/27461
SUMMARY:Gottesdienst mit dem Singkreis
PRIORITY:5
X-MICROSOFT-CDO-IMPORTANCE:1
CLASS:PUBLIC
END:VEVENT
END:VCALENDAR
