BEGIN:VCALENDAR
PRODID:-//kirchenweb.ch gmbh//veranstaltungsausgabe v2.0//DE
VERSION:2.0
METHOD:PUBLISH
BEGIN:VEVENT
DTSTART:20261102T140000Z
DTEND:20261102T150000Z
LOCATION:Alters- und Pflegeheim Letz\, Näfels \, Letz 11\, 8752 Näfels
TRANSP:OPAQUE
SEQUENCE:0
UID:27460-veranstaltung@ref-gl.ch
DTSTAMP:20260309T121254Z
DESCRIPTION:In Cafeteria\n\nKontakt: Ruedi Hofer und Br. Christoph-Maria
  Hörtner\n\nWeitere Infos: https://www.ref-gl.ch/veranstaltung/27460
SUMMARY:Ökumenische Andacht Allerseelen
PRIORITY:5
X-MICROSOFT-CDO-IMPORTANCE:1
CLASS:PUBLIC
END:VEVENT
END:VCALENDAR
