BEGIN:VCALENDAR
PRODID:-//kirchenweb.ch gmbh//veranstaltungsausgabe v2.0//DE
VERSION:2.0
METHOD:PUBLISH
BEGIN:VEVENT
DTSTART:20261214T090000Z
DTEND:20261214T100000Z
LOCATION:Alters- und Pflegeheim Letz\, Näfels\, Letz 11\, 8752 Näfels
TRANSP:OPAQUE
SEQUENCE:0
UID:27459-veranstaltung@ref-gl.ch
DTSTAMP:20250922T071753Z
DESCRIPTION:Kontakt: Ruedi Hofer\n\nWeitere Infos:
  https://www.ref-gl.ch/veranstaltung/27459
SUMMARY:Andacht
PRIORITY:5
X-MICROSOFT-CDO-IMPORTANCE:1
CLASS:PUBLIC
END:VEVENT
END:VCALENDAR
