BEGIN:VCALENDAR
PRODID:-//kirchenweb.ch gmbh//veranstaltungsausgabe v2.0//DE
VERSION:2.0
METHOD:PUBLISH
BEGIN:VEVENT
DTSTART:20260510T070000Z
DTEND:20260510T080000Z
LOCATION:Ref. Kirche Bilten\, Hauptstrasse 56\, 8865 Bilten
TRANSP:OPAQUE
SEQUENCE:0
UID:27412-veranstaltung@ref-gl.ch
DTSTAMP:20260227T093136Z
DESCRIPTION:Kontakt: Katja Missal\n\nWeitere Infos:
  https://www.ref-gl.ch/veranstaltung/27412
SUMMARY:Gottesdienst zum Muttertag
PRIORITY:5
X-MICROSOFT-CDO-IMPORTANCE:1
CLASS:PUBLIC
END:VEVENT
END:VCALENDAR
