BEGIN:VCALENDAR
PRODID:-//kirchenweb.ch gmbh//veranstaltungsausgabe v2.0//DE
VERSION:2.0
METHOD:PUBLISH
BEGIN:VEVENT
DTSTART:20260515T130000Z
DTEND:20260515T140000Z
LOCATION:Alters- und Pflegeheim Hof\, Mollis\, Steinackerstrasse 4\, 8753
  Mollis
TRANSP:OPAQUE
SEQUENCE:0
UID:27374-veranstaltung@ref-gl.ch
DTSTAMP:20250917T035143Z
DESCRIPTION:Kontakt: Ruedi Hofer\n\nWeitere Infos:
  https://www.ref-gl.ch/veranstaltung/27374
SUMMARY:Andacht mit Abendmahl
PRIORITY:5
X-MICROSOFT-CDO-IMPORTANCE:1
CLASS:PUBLIC
END:VEVENT
END:VCALENDAR
