BEGIN:VCALENDAR
PRODID:-//kirchenweb.ch gmbh//veranstaltungsausgabe v2.0//DE
VERSION:2.0
METHOD:PUBLISH
BEGIN:VEVENT
DTSTART:20260703T140000Z
DTEND:20260703T144500Z
LOCATION:Kreuzstift\, Schänis\, Rathausplatz 1\, 8718 Schänis
TRANSP:OPAQUE
SEQUENCE:0
UID:27288-veranstaltung@ref-gl.ch
DTSTAMP:20260127T102128Z
DESCRIPTION:Kontakt: Ruedi Hofer\n\nWeitere Infos:
  https://www.ref-gl.ch/veranstaltung/27288
SUMMARY:Andacht
PRIORITY:5
X-MICROSOFT-CDO-IMPORTANCE:1
CLASS:PUBLIC
END:VEVENT
END:VCALENDAR
