BEGIN:VCALENDAR
PRODID:-//kirchenweb.ch gmbh//veranstaltungsausgabe v2.0//DE
VERSION:2.0
METHOD:PUBLISH
BEGIN:VEVENT
DTSTART:20260505T170000Z
DTEND:20260505T190000Z
LOCATION:Kirchgemeindehaus Mollis\, Bahnhofstrasse 5\, 8753 Mollis
TRANSP:OPAQUE
SEQUENCE:0
UID:27183-veranstaltung@ref-gl.ch
DTSTAMP:20250903T102405Z
DESCRIPTION:Volkstänze aus aller Welt\, Live-Musik zum Mitspielen
 \nLeitung: Manuela Einsle und Brigitta Fuchs\nAnfängerInnen und
  Fortgeschrittene sind herzlich willkommen.\n\n\nKontakt:
  stephanie.cathomas@ref-gl.ch\n\nWeitere Infos:
  https://www.ref-gl.ch/veranstaltung/27183
SUMMARY:VolksTanzMusik
PRIORITY:5
X-MICROSOFT-CDO-IMPORTANCE:1
CLASS:PUBLIC
END:VEVENT
END:VCALENDAR
